BEGIN:VCALENDAR
VERSION:2.0
PRODID:-//Cuina al punt - ECPv6.15.20//NONSGML v1.0//EN
CALSCALE:GREGORIAN
METHOD:PUBLISH
X-ORIGINAL-URL:https://cuinaalpunt.com
X-WR-CALDESC:Esdeveniments per Cuina al punt
REFRESH-INTERVAL;VALUE=DURATION:PT1H
X-Robots-Tag:noindex
X-PUBLISHED-TTL:PT1H
BEGIN:VTIMEZONE
TZID:Europe/Madrid
BEGIN:DAYLIGHT
TZOFFSETFROM:+0100
TZOFFSETTO:+0200
TZNAME:CEST
DTSTART:20250330T010000
END:DAYLIGHT
BEGIN:STANDARD
TZOFFSETFROM:+0200
TZOFFSETTO:+0100
TZNAME:CET
DTSTART:20251026T010000
END:STANDARD
BEGIN:DAYLIGHT
TZOFFSETFROM:+0100
TZOFFSETTO:+0200
TZNAME:CEST
DTSTART:20260329T010000
END:DAYLIGHT
BEGIN:STANDARD
TZOFFSETFROM:+0200
TZOFFSETTO:+0100
TZNAME:CET
DTSTART:20261025T010000
END:STANDARD
BEGIN:DAYLIGHT
TZOFFSETFROM:+0100
TZOFFSETTO:+0200
TZNAME:CEST
DTSTART:20270328T010000
END:DAYLIGHT
BEGIN:STANDARD
TZOFFSETFROM:+0200
TZOFFSETTO:+0100
TZNAME:CET
DTSTART:20271031T010000
END:STANDARD
END:VTIMEZONE
BEGIN:VEVENT
DTSTART;TZID=Europe/Madrid:20260408T190000
DTEND;TZID=Europe/Madrid:20260408T220000
DTSTAMP:20260419T162516
CREATED:20260126T182921Z
LAST-MODIFIED:20260126T182921Z
UID:3166-1775674800-1775685600@cuinaalpunt.com
SUMMARY:Taller d'arrossos
DESCRIPTION:Inscriure'm al Taller\n  \nL’arròs és un aliment present a moltes cultures culinàries i n’hi ha de moltíssimes varietats que permeten l’elaboració de plats molt variats. A més és un cereal molt econòmic i amb un alt valor nutritiu\, ja que és ric en vitamines\, minerals\, proteïnes i hidrats de carboni. \nSi vols descobrir més coses de com fer diferents arrosso i quins són els més apropiats per a cada elaboració\, aquest és el teu taller. \nEn aquest taller elaborarem 3 tipus d’arrossos. \n\nArròs melós de bolets\, tomàquet sec i pesto.\nPaella de pollastre de corral amb verduretes.\nArròs caldós de sípia i llamàntol.\n\nInscriure'm al Taller\n  \n 
URL:https://cuinaalpunt.com/event/taller-darrossos-5/
LOCATION:Cuina al Punt\, C/ Independència\, 383 baixos\, Barcelona\, Barcelona\, 08041\, Spain
CATEGORIES:Taller
ATTACH;FMTTYPE=image/jpeg:https://cuinaalpunt.com/wp-content/uploads/2025/12/Taller-arros.jpg
END:VEVENT
END:VCALENDAR