BEGIN:VCALENDAR
VERSION:2.0
PRODID:-//Cuina al punt - ECPv6.15.20//NONSGML v1.0//EN
CALSCALE:GREGORIAN
METHOD:PUBLISH
X-WR-CALNAME:Cuina al punt
X-ORIGINAL-URL:https://cuinaalpunt.com
X-WR-CALDESC:Esdeveniments per Cuina al punt
REFRESH-INTERVAL;VALUE=DURATION:PT1H
X-Robots-Tag:noindex
X-PUBLISHED-TTL:PT1H
BEGIN:VTIMEZONE
TZID:Europe/Madrid
BEGIN:DAYLIGHT
TZOFFSETFROM:+0100
TZOFFSETTO:+0200
TZNAME:CEST
DTSTART:20240331T010000
END:DAYLIGHT
BEGIN:STANDARD
TZOFFSETFROM:+0200
TZOFFSETTO:+0100
TZNAME:CET
DTSTART:20241027T010000
END:STANDARD
BEGIN:DAYLIGHT
TZOFFSETFROM:+0100
TZOFFSETTO:+0200
TZNAME:CEST
DTSTART:20250330T010000
END:DAYLIGHT
BEGIN:STANDARD
TZOFFSETFROM:+0200
TZOFFSETTO:+0100
TZNAME:CET
DTSTART:20251026T010000
END:STANDARD
BEGIN:DAYLIGHT
TZOFFSETFROM:+0100
TZOFFSETTO:+0200
TZNAME:CEST
DTSTART:20260329T010000
END:DAYLIGHT
BEGIN:STANDARD
TZOFFSETFROM:+0200
TZOFFSETTO:+0100
TZNAME:CET
DTSTART:20261025T010000
END:STANDARD
END:VTIMEZONE
BEGIN:VEVENT
DTSTART;TZID=Europe/Madrid:20251120T193000
DTEND;TZID=Europe/Madrid:20251120T223000
DTSTAMP:20260419T233940
CREATED:20250513T114413Z
LAST-MODIFIED:20251105T174042Z
UID:2246-1763667000-1763677800@cuinaalpunt.com
SUMMARY:Sopar amb els Ancestres
DESCRIPTION:Quan els vels es tornen fins\, els mons es toquen. Els esperits ens murmuren i honrem la vida.\n\n\n\nEl 30 d’octubre ens reunim per viure una nit màgica\, quan el vel entre el mon dels vius i el mon espiritual es torna més fi. \nComençarem amb un taller ritual guiat per l’Eva Boch —tarotista\, canalitzadora— i seguirem amb un sopar ceremonial preparat pel chef Alex Bonal de Cuina Al Punt a Barcelona. \nInspirat en tradicions ancestrals com Samhain i el Día dels Morts\, serà una nit per lluar la vida\, connectar amb els teus guíes i despertar la teva intuició. \nDetalls de l’esdeveniment 🕯️\n📅 Dijous\, 30 d’Octubre\n🕒 19:30 h\n📍 Cuina Al Punt – Barcelona\n⏳ Taller de 1h30 + Cena de 1h30\n💜 Precio: 49 €\n🎟️ Places limitades \nPlaces limitades – reserva ara la teva entrada i assegura’t el teu lloc sota les estrelles. \nConsulta tots els detalls i reserva la teva plaça aquí \n\n 
URL:https://cuinaalpunt.com/event/sopar-ancestral/
LOCATION:Barcelona
CATEGORIES:Sopars
END:VEVENT
END:VCALENDAR