BEGIN:VCALENDAR
VERSION:2.0
PRODID:-//Cuina al punt - ECPv6.15.20//NONSGML v1.0//EN
CALSCALE:GREGORIAN
METHOD:PUBLISH
X-ORIGINAL-URL:https://cuinaalpunt.com
X-WR-CALDESC:Esdeveniments per Cuina al punt
REFRESH-INTERVAL;VALUE=DURATION:PT1H
X-Robots-Tag:noindex
X-PUBLISHED-TTL:PT1H
BEGIN:VTIMEZONE
TZID:Europe/Madrid
BEGIN:DAYLIGHT
TZOFFSETFROM:+0100
TZOFFSETTO:+0200
TZNAME:CEST
DTSTART:20250330T010000
END:DAYLIGHT
BEGIN:STANDARD
TZOFFSETFROM:+0200
TZOFFSETTO:+0100
TZNAME:CET
DTSTART:20251026T010000
END:STANDARD
BEGIN:DAYLIGHT
TZOFFSETFROM:+0100
TZOFFSETTO:+0200
TZNAME:CEST
DTSTART:20260329T010000
END:DAYLIGHT
BEGIN:STANDARD
TZOFFSETFROM:+0200
TZOFFSETTO:+0100
TZNAME:CET
DTSTART:20261025T010000
END:STANDARD
BEGIN:DAYLIGHT
TZOFFSETFROM:+0100
TZOFFSETTO:+0200
TZNAME:CEST
DTSTART:20270328T010000
END:DAYLIGHT
BEGIN:STANDARD
TZOFFSETFROM:+0200
TZOFFSETTO:+0100
TZNAME:CET
DTSTART:20271031T010000
END:STANDARD
END:VTIMEZONE
BEGIN:VEVENT
DTSTART;TZID=Europe/Madrid:20260303T190000
DTEND;TZID=Europe/Madrid:20260303T213000
DTSTAMP:20260419T174506
CREATED:20260126T175638Z
LAST-MODIFIED:20260126T175638Z
UID:3140-1772564400-1772573400@cuinaalpunt.com
SUMMARY:Taller de Catalana
DESCRIPTION:A Cuina al Punt\, som uns ferms defensors de la cuina tradicional catalana\, amb les seves receptes casolanes i els seus sabors autèntics. Si vols aprendre a cuinar plats típics de la cuina catalana\, aquest taller és ideal per a tu. En aquest taller\, no només cuinaràs\, sinó que també viuràs una experiència gastronòmica plena de història i passió per la cuina de casa nostra. \nDurant la sessió\, t’ensenyarem a preparar tres plats que formen part de la nostra tradició culinària\, perfectes per compartir amb els teus éssers estimats: \n\nMousse d’escalivada amb anxoves: Una versió diferent de l’escalivada amb anxoves de sempre.\nFricandó: Un gran plat clàssic de la cuina catalana i probablement el plat preferit de la majoria.\nCrema catalana: el dolç clàssic de la cuina catalana\, amb una textura cremosa i una capa cruixent.\n\nPlaces limitades – reserva ara la teva plaça i assegura’t el teu lloc a aquest taller. \nInscriure'm al Taller
URL:https://cuinaalpunt.com/event/taller-de-catalana-6/
LOCATION:Cuina al Punt\, C/ Independència\, 383 baixos\, Barcelona\, Barcelona\, 08041\, Spain
CATEGORIES:Taller
ATTACH;FMTTYPE=image/jpeg:https://cuinaalpunt.com/wp-content/uploads/2025/09/Taller-cat.jpg
END:VEVENT
BEGIN:VEVENT
DTSTART;TZID=Europe/Madrid:20260304T190000
DTEND;TZID=Europe/Madrid:20260304T220000
DTSTAMP:20260419T174506
CREATED:20250327T092139Z
LAST-MODIFIED:20260110T094246Z
UID:1832-1772650800-1772661600@cuinaalpunt.com
SUMMARY:Taller de Cuina Tailandesa
DESCRIPTION:Inscriure'm al Taller\n  \nA Cuina al Punt\, t’oferim un taller de cuina tailandesa únic per a tots els amants de la gastronomia exòtica. La cuina tailandesa es caracteritza per la seva varietat de sabors contrastats\, com dolços\, salats\, àcids\, amargs i\, sobretot\, un toc picant que la fa inconfusible. Si vols aprendre a preparar plats deliciosos amb aquesta combinació de sabors\, aquest és el teu taller! \nEn aquest taller de cuina Thai\, aprendràs a cuinar plats tradicionals i ràpids\, ideats per sorprendre els teus sentits. Durant la sessió\, et guiarem a preparar tres plats típics de la cuina tailandesa: \n\nPad Thai amb gambes: Un dels plats més emblemàtics de Tailàndia\, amb un equilibri perfecte entre dolçor\, salat i un toc picant.\nPollastre amb curri verd i verduretes: Un plat ple de sabor i una explosió de contrastos gràcies al curri tailandès.\nPostre: Arròs amb llet de coco i mango: Un postre deliciós\, cremós i amb un sabor tropical inconfusible.\n\nInscriure'm al Taller\n 
URL:https://cuinaalpunt.com/event/taller-de-cuina-tailandesa-2/
LOCATION:Cuina al Punt\, C/ Independència\, 383 baixos\, Barcelona\, Barcelona\, 08041\, Spain
CATEGORIES:Taller
ATTACH;FMTTYPE=image/jpeg:https://cuinaalpunt.com/wp-content/uploads/2025/03/Taller-Thai.jpg
END:VEVENT
BEGIN:VEVENT
DTSTART;TZID=Europe/Madrid:20260305T190000
DTEND;TZID=Europe/Madrid:20260305T220000
DTSTAMP:20260419T174506
CREATED:20260121T073717Z
LAST-MODIFIED:20260126T172449Z
UID:3101-1772737200-1772748000@cuinaalpunt.com
SUMMARY:Taller menú degustació
DESCRIPTION:Inscriure'm al Taller \nSorprèn els teus convidats amb un menú degustació de 4 plats creatius i deliciosos. Cruixents\, cremosos\, salats i dolços — tot en un taller on cuinaràs\, aprendràs i et divertiràs. \nHorari: De 19:00h. a 22:00h. \nEs tracta d’un taller on que prepararem 4 plats originals amb els quals podràs sorprendre a qualsevol comensal amb receptes i ingredients sorprenents. \nAquests són els plats que cuinarem: \n\nCruixent de gambes amb crema de carabassa amb llet de coco i curri.\nParmentier de patata amb ceps i ou poché.\nLlom de bacallà amb micro-samfaina i poma confitada.\nCrema de cheese cake amb galeta lotus i salsa de fruits vermells.\n\nInscriure'm al Taller\n  \n 
URL:https://cuinaalpunt.com/event/taller-menu-degustacio-4/
LOCATION:Cuina al Punt\, C/ Independència\, 383 baixos\, Barcelona\, Barcelona\, 08041\, Spain
CATEGORIES:Taller
ATTACH;FMTTYPE=image/png:https://cuinaalpunt.com/wp-content/uploads/2025/04/M-Degustacio.png
END:VEVENT
BEGIN:VEVENT
DTSTART;TZID=Europe/Madrid:20260307T120000
DTEND;TZID=Europe/Madrid:20260307T150000
DTSTAMP:20260419T174506
CREATED:20260103T091737Z
LAST-MODIFIED:20260225T080418Z
UID:2983-1772884800-1772895600@cuinaalpunt.com
SUMMARY:Taller d'arrossos (COMPLET)
DESCRIPTION:COMPLET \nL’arròs és un aliment present a moltes cultures culinàries i n’hi ha de moltíssimes varietats que permeten l’elaboració de plats molt variats. A més és un cereal molt econòmic i amb un alt valor nutritiu\, ja que és ric en vitamines\, minerals\, proteïnes i hidrats de carboni. \nSi vols descobrir més coses de com fer diferents arrosso i quins són els més apropiats per a cada elaboració\, aquest és el teu taller. \nEn aquest taller elaborarem 3 tipus d’arrossos. \n\nArròs melós de bolets\, tomàquet sec i pesto.\nPaella de pollastre de corral amb verduretes.\nArròs caldós de sípia i llamàntol.\n\nCOMPLET \n  \n 
URL:https://cuinaalpunt.com/event/taller-darrossos/
LOCATION:Cuina al Punt\, C/ Independència\, 383 baixos\, Barcelona\, Barcelona\, 08041\, Spain
CATEGORIES:Taller
ATTACH;FMTTYPE=image/jpeg:https://cuinaalpunt.com/wp-content/uploads/2025/12/Taller-arros.jpg
END:VEVENT
BEGIN:VEVENT
DTSTART;TZID=Europe/Madrid:20260309T190000
DTEND;TZID=Europe/Madrid:20260309T220000
DTSTAMP:20260419T174506
CREATED:20260114T230812Z
LAST-MODIFIED:20260114T230812Z
UID:3070-1773082800-1773093600@cuinaalpunt.com
SUMMARY:Taller de Cuina Sushi
DESCRIPTION:Inscriure'm al Taller\n  \nA Cuina al Punt\, t’oferim un taller de cuina de sushi únic per a tots els amants de la gastronomia japonesa. \nEn aquest taller de cuina japonesa\, aprendràs pas a pas com preparar sushi com un autèntic professional. T’ensenyarem a treballar l’arròs\, tallar el peix amb precisió i crear diferents tipus de sushi plens de sabor i elegància: \n\nMakis en tempura\nNorimakis\nUramakis\nNigiris\n\nUna experiència deliciosa\, formativa i plena de detall per als amants de la cuina nipona. \nInscriure'm al Taller
URL:https://cuinaalpunt.com/event/taller-de-cuina-sushi-3-2/
LOCATION:Cuina al Punt\, C/ Independència\, 383 baixos\, Barcelona\, Barcelona\, 08041\, Spain
CATEGORIES:Taller
ATTACH;FMTTYPE=image/png:https://cuinaalpunt.com/wp-content/uploads/2025/03/Taller-sushi.png
END:VEVENT
BEGIN:VEVENT
DTSTART;TZID=Europe/Madrid:20260314T120000
DTEND;TZID=Europe/Madrid:20260314T150000
DTSTAMP:20260419T174506
CREATED:20260126T175119Z
LAST-MODIFIED:20260126T175119Z
UID:3133-1773489600-1773500400@cuinaalpunt.com
SUMMARY:Taller de Catalana
DESCRIPTION:A Cuina al Punt\, som uns ferms defensors de la cuina tradicional catalana\, amb les seves receptes casolanes i els seus sabors autèntics. Si vols aprendre a cuinar plats típics de la cuina catalana\, aquest taller és ideal per a tu. En aquest taller\, no només cuinaràs\, sinó que també viuràs una experiència gastronòmica plena de història i passió per la cuina de casa nostra. \nDurant la sessió\, t’ensenyarem a preparar tres plats que formen part de la nostra tradició culinària\, perfectes per compartir amb els teus éssers estimats: \n\nMousse d’escalivada amb anxoves: Una versió diferent de l’escalivada amb anxoves de sempre.\nFricandó: Un gran plat clàssic de la cuina catalana i probablement el plat preferit de la majoria.\nCrema catalana: el dolç clàssic de la cuina catalana\, amb una textura cremosa i una capa cruixent.\n\nPlaces limitades – reserva ara la teva plaça i assegura’t el teu lloc a aquest taller. \nInscriure'm al Taller
URL:https://cuinaalpunt.com/event/taller-de-catalana-5/
LOCATION:Cuina al Punt\, C/ Independència\, 383 baixos\, Barcelona\, Barcelona\, 08041\, Spain
CATEGORIES:Taller
ATTACH;FMTTYPE=image/jpeg:https://cuinaalpunt.com/wp-content/uploads/2025/09/Taller-cat.jpg
END:VEVENT
BEGIN:VEVENT
DTSTART;TZID=Europe/Madrid:20260316T190000
DTEND;TZID=Europe/Madrid:20260316T220000
DTSTAMP:20260419T174506
CREATED:20260114T231341Z
LAST-MODIFIED:20260114T231341Z
UID:3073-1773687600-1773698400@cuinaalpunt.com
SUMMARY:Taller d'arrossos
DESCRIPTION:Inscriure'm al Taller\n  \nL’arròs és un aliment present a moltes cultures culinàries i n’hi ha de moltíssimes varietats que permeten l’elaboració de plats molt variats. A més és un cereal molt econòmic i amb un alt valor nutritiu\, ja que és ric en vitamines\, minerals\, proteïnes i hidrats de carboni. \nSi vols descobrir més coses de com fer diferents arrosso i quins són els més apropiats per a cada elaboració\, aquest és el teu taller. \nEn aquest taller elaborarem 3 tipus d’arrossos. \n\nArròs melós de bolets\, tomàquet sec i pesto.\nPaella de pollastre de corral amb verduretes.\nArròs caldós de sípia i llamàntol.\n\nInscriure'm al Taller\n  \n 
URL:https://cuinaalpunt.com/event/taller-darrossos-2-2/
LOCATION:Cuina al Punt\, C/ Independència\, 383 baixos\, Barcelona\, Barcelona\, 08041\, Spain
CATEGORIES:Taller
ATTACH;FMTTYPE=image/jpeg:https://cuinaalpunt.com/wp-content/uploads/2025/12/Taller-arros.jpg
END:VEVENT
BEGIN:VEVENT
DTSTART;TZID=Europe/Madrid:20260318T190000
DTEND;TZID=Europe/Madrid:20260318T220000
DTSTAMP:20260419T174506
CREATED:20260126T175345Z
LAST-MODIFIED:20260126T175345Z
UID:3136-1773860400-1773871200@cuinaalpunt.com
SUMMARY:Taller de Cuina Sushi
DESCRIPTION:Inscriure'm al Taller\n  \nA Cuina al Punt\, t’oferim un taller de cuina de sushi únic per a tots els amants de la gastronomia japonesa. \nEn aquest taller de cuina japonesa\, aprendràs pas a pas com preparar sushi com un autèntic professional. T’ensenyarem a treballar l’arròs\, tallar el peix amb precisió i crear diferents tipus de sushi plens de sabor i elegància: \n\nMakis en tempura\nNorimakis\nUramakis\nNigiris\n\nUna experiència deliciosa\, formativa i plena de detall per als amants de la cuina nipona. \nInscriure'm al Taller
URL:https://cuinaalpunt.com/event/taller-de-cuina-sushi-5/
LOCATION:Cuina al Punt\, C/ Independència\, 383 baixos\, Barcelona\, Barcelona\, 08041\, Spain
CATEGORIES:Taller
ATTACH;FMTTYPE=image/png:https://cuinaalpunt.com/wp-content/uploads/2025/03/Taller-sushi.png
END:VEVENT
BEGIN:VEVENT
DTSTART;TZID=Europe/Madrid:20260319T190000
DTEND;TZID=Europe/Madrid:20260319T190000
DTSTAMP:20260419T174506
CREATED:20251214T213200Z
LAST-MODIFIED:20260319T183704Z
UID:2898-1773946800-1773946800@cuinaalpunt.com
SUMMARY:Taller menú degustació
DESCRIPTION:Inscriure'm al Taller \nSorprèn els teus convidats amb un menú degustació de 4 plats creatius i deliciosos. Cruixents\, cremosos\, salats i dolços — tot en un taller on cuinaràs\, aprendràs i et divertiràs. \nHorari: De 19:00h. a 22:00h. \nEs tracta d’un taller en el que prepararem 4 plats originals amb els que sorprendre a qualsevol començal amb receptes i ingredients sorprenents. \nAquests són els plats que cuinarem: \n\nCruixent de gambes amb crema de carabassa amb llet de coco i curri.\nParmentier de patata amb ceps i ou poché.\nLlom de bacallà amb micro-samfaina i poma confitada.\nCrema de cheese cake amb galeta lotus i salsa de fruits vermells.\n\nInscriure'm al Taller\n  \n 
URL:https://cuinaalpunt.com/event/taller-menu-degustacio/
LOCATION:Cuina al Punt\, C/ Independència\, 383 baixos\, Barcelona\, Barcelona\, 08041\, Spain
CATEGORIES:Taller
ATTACH;FMTTYPE=image/png:https://cuinaalpunt.com/wp-content/uploads/2025/04/M-Degustacio.png
END:VEVENT
BEGIN:VEVENT
DTSTART;TZID=Europe/Madrid:20260321T120000
DTEND;TZID=Europe/Madrid:20260321T150000
DTSTAMP:20260419T174506
CREATED:20260114T225752Z
LAST-MODIFIED:20260114T225752Z
UID:3063-1774094400-1774105200@cuinaalpunt.com
SUMMARY:Taller menú degustació
DESCRIPTION:Inscriure'm al Taller \nSorprèn els teus convidats amb un menú degustació de 4 plats creatius i deliciosos. Cruixents\, cremosos\, salats i dolços — tot en un taller on cuinaràs\, aprendràs i et divertiràs. \nHorari: De 19:00h. a 22:00h. \nEs tracta d’un taller on que prepararem 4 plats originals amb els quals podràs sorprendre a qualsevol comensal amb receptes i ingredients sorprenents. \nAquests són els plats que cuinarem: \n\nCruixent de gambes amb crema de carabassa amb llet de coco i curri.\nParmentier de patata amb ceps i ou poché.\nLlom de bacallà amb micro-samfaina i poma confitada.\nCrema de cheese cake amb galeta lotus i salsa de fruits vermells.\n\nInscriure'm al Taller\n  \n 
URL:https://cuinaalpunt.com/event/taller-menu-degustacio-3-2/
LOCATION:Cuina al Punt\, C/ Independència\, 383 baixos\, Barcelona\, Barcelona\, 08041\, Spain
CATEGORIES:Taller
ATTACH;FMTTYPE=image/png:https://cuinaalpunt.com/wp-content/uploads/2025/04/M-Degustacio.png
END:VEVENT
BEGIN:VEVENT
DTSTART;TZID=Europe/Madrid:20260324T120000
DTEND;TZID=Europe/Madrid:20260324T150000
DTSTAMP:20260419T174506
CREATED:20260114T230604Z
LAST-MODIFIED:20260126T175941Z
UID:3066-1774353600-1774364400@cuinaalpunt.com
SUMMARY:Taller de Cuina Sushi
DESCRIPTION:Inscriure'm al Taller\n  \nA Cuina al Punt\, t’oferim un taller de cuina de sushi únic per a tots els amants de la gastronomia japonesa. \nEn aquest taller de cuina japonesa\, aprendràs pas a pas com preparar sushi com un autèntic professional. T’ensenyarem a treballar l’arròs\, tallar el peix amb precisió i crear diferents tipus de sushi plens de sabor i elegància: \n\nMakis en tempura\nHosomaki\nUramaki\nNigiri\n\nUna experiència deliciosa\, formativa i plena de detall per als amants de la cuina nipona. \nInscriure'm al Taller
URL:https://cuinaalpunt.com/event/taller-de-cuina-sushi-4/
LOCATION:Cuina al Punt\, C/ Independència\, 383 baixos\, Barcelona\, Barcelona\, 08041\, Spain
CATEGORIES:Taller
ATTACH;FMTTYPE=image/png:https://cuinaalpunt.com/wp-content/uploads/2025/03/Taller-sushi.png
END:VEVENT
BEGIN:VEVENT
DTSTART;TZID=Europe/Madrid:20260325T190000
DTEND;TZID=Europe/Madrid:20260325T213000
DTSTAMP:20260419T174506
CREATED:20260126T175714Z
LAST-MODIFIED:20260225T083011Z
UID:3143-1774465200-1774474200@cuinaalpunt.com
SUMMARY:Taller de Catalana (COMPLET)
DESCRIPTION:A Cuina al Punt\, som uns ferms defensors de la cuina tradicional catalana\, amb les seves receptes casolanes i els seus sabors autèntics. Si vols aprendre a cuinar plats típics de la cuina catalana\, aquest taller és ideal per a tu. En aquest taller\, no només cuinaràs\, sinó que també viuràs una experiència gastronòmica plena de història i passió per la cuina de casa nostra. \nDurant la sessió\, t’ensenyarem a preparar tres plats que formen part de la nostra tradició culinària\, perfectes per compartir amb els teus éssers estimats: \n\nMousse d’escalivada amb anxoves: Una versió diferent de l’escalivada amb anxoves de sempre.\nFricandó: Un gran plat clàssic de la cuina catalana i probablement el plat preferit de la majoria.\nCrema catalana: el dolç clàssic de la cuina catalana\, amb una textura cremosa i una capa cruixent.\n\nPlaces limitades – reserva ara la teva plaça i assegura’t el teu lloc a aquest taller. \nCOMPLET
URL:https://cuinaalpunt.com/event/taller-de-catalana-7/
LOCATION:Cuina al Punt\, C/ Independència\, 383 baixos\, Barcelona\, Barcelona\, 08041\, Spain
CATEGORIES:Taller
ATTACH;FMTTYPE=image/jpeg:https://cuinaalpunt.com/wp-content/uploads/2025/09/Taller-cat.jpg
END:VEVENT
BEGIN:VEVENT
DTSTART;TZID=Europe/Madrid:20260326T190000
DTEND;TZID=Europe/Madrid:20260326T220000
DTSTAMP:20260419T174506
CREATED:20260208T200323Z
LAST-MODIFIED:20260208T200323Z
UID:3248-1774551600-1774562400@cuinaalpunt.com
SUMMARY:Taller d'arrossos
DESCRIPTION:Inscriure'm al Taller\n  \nL’arròs és un aliment present a moltes cultures culinàries i n’hi ha de moltíssimes varietats que permeten l’elaboració de plats molt variats. A més és un cereal molt econòmic i amb un alt valor nutritiu\, ja que és ric en vitamines\, minerals\, proteïnes i hidrats de carboni. \nSi vols descobrir més coses de com fer diferents arrosso i quins són els més apropiats per a cada elaboració\, aquest és el teu taller. \nEn aquest taller elaborarem 3 tipus d’arrossos. \n\nArròs melós de bolets\, tomàquet sec i pesto.\nPaella de pollastre de corral amb verduretes.\nArròs caldós de sípia i llamàntol.\n\nInscriure'm al Taller\n  \n 
URL:https://cuinaalpunt.com/event/taller-darrossos-9/
LOCATION:Cuina al Punt\, C/ Independència\, 383 baixos\, Barcelona\, Barcelona\, 08041\, Spain
CATEGORIES:Taller
ATTACH;FMTTYPE=image/jpeg:https://cuinaalpunt.com/wp-content/uploads/2025/12/Taller-arros.jpg
END:VEVENT
END:VCALENDAR