BEGIN:VCALENDAR
VERSION:2.0
PRODID:-//Cuina al punt - ECPv6.15.20//NONSGML v1.0//EN
CALSCALE:GREGORIAN
METHOD:PUBLISH
X-ORIGINAL-URL:https://cuinaalpunt.com
X-WR-CALDESC:Esdeveniments per Cuina al punt
REFRESH-INTERVAL;VALUE=DURATION:PT1H
X-Robots-Tag:noindex
X-PUBLISHED-TTL:PT1H
BEGIN:VTIMEZONE
TZID:Europe/Madrid
BEGIN:DAYLIGHT
TZOFFSETFROM:+0100
TZOFFSETTO:+0200
TZNAME:CEST
DTSTART:20250330T010000
END:DAYLIGHT
BEGIN:STANDARD
TZOFFSETFROM:+0200
TZOFFSETTO:+0100
TZNAME:CET
DTSTART:20251026T010000
END:STANDARD
BEGIN:DAYLIGHT
TZOFFSETFROM:+0100
TZOFFSETTO:+0200
TZNAME:CEST
DTSTART:20260329T010000
END:DAYLIGHT
BEGIN:STANDARD
TZOFFSETFROM:+0200
TZOFFSETTO:+0100
TZNAME:CET
DTSTART:20261025T010000
END:STANDARD
BEGIN:DAYLIGHT
TZOFFSETFROM:+0100
TZOFFSETTO:+0200
TZNAME:CEST
DTSTART:20270328T010000
END:DAYLIGHT
BEGIN:STANDARD
TZOFFSETFROM:+0200
TZOFFSETTO:+0100
TZNAME:CET
DTSTART:20271031T010000
END:STANDARD
END:VTIMEZONE
BEGIN:VEVENT
DTSTART;TZID=Europe/Madrid:20260421T190000
DTEND;TZID=Europe/Madrid:20260421T213000
DTSTAMP:20260419T174714
CREATED:20250925T071546Z
LAST-MODIFIED:20260319T190432Z
UID:2482-1776798000-1776807000@cuinaalpunt.com
SUMMARY:Taller de Tapes creatives
DESCRIPTION:Es tracta d’un taller en el que prepararem tapes en diferents formats creatives i originals amb les que buscarem un efecte sorprenent. \nAquests són els plats que cuinarem: \n\nPatates provençals amb gambes al allet i ous estrellats.\nCruixent de botifarra de perol amb ceba i anxova.\nSteak tartar amb patata Hash Browun.\nCeviche de corvall amb mango.\n\nTorradetes de pa amb xocolata\, oli d’oliva i escames de sal. \nInscriure'm al Taller
URL:https://cuinaalpunt.com/event/taller-cuina-catalana-tradicional-barcelona/
LOCATION:Cuina al Punt\, C/ Independència\, 383 baixos\, Barcelona\, Barcelona\, 08041\, Spain
CATEGORIES:Taller
ATTACH;FMTTYPE=image/jpeg:https://cuinaalpunt.com/wp-content/uploads/2025/08/Tapes-cretives.jpg
END:VEVENT
END:VCALENDAR